BEGIN:VCALENDAR
VERSION:2.0
PRODID:-//ChamberMaster//Event Calendar 2.0//EN
METHOD:PUBLISH
X-PUBLISHED-TTL:P3D
REFRESH-INTERVAL:P3D
CALSCALE:GREGORIAN
BEGIN:VEVENT
DTSTART;VALUE=DATE:20260421
DTEND;VALUE=DATE:20260423
TRANSP:TRANSPARENT
X-MICROSOFT-CDO-ALLDAYEVENT:TRUE
SUMMARY:UConn Gives 2026 (April 21 & 22)
DESCRIPTION:UConn Gives is a 36-hour campaign to rally support for initiatives that make a real impact including the Entrepreneurship Bootcamp for Veterans (EBV). Gifts can be made between 7:00 AM EST on April 21 and 7:00 PM EST on April 22. \n\n \n\nIn the fall of 2025\, we held our first ever alumni event and welcomed over 40 graduates to the Sheraton Hartford Hotel at Bradley Airport. Attendees were able to take advantage of follow-on business resources while fostering meaningful relationships across cohorts. Please learn more here. \n\n \n\nWe are proud of the positive feedback we received: "Attending the EBV alumni event was truly a great learning experience. It provided an invaluable opportunity to network\, reconnect with my classmates\, and meet inspiring alumni from other cohort years. Events like this are essential for our continued growth and success as veteran entrepreneurs. I was fortunate enough to win the pitch competition award. Our Henry H. Washington 3 Foundation utilized the grant to provide homeless veterans with food\, clothing and shelter and to fund the development of additional programs for our veterans and young adults."\n\n Dr. Henry H. Washington III\, EBV '21\n\n \n\nOur goal in 2026 is to raise funding to support another alumni event and ensure this is an annual offering for our graduates. All donations raised during UConn Gives will directly sponsor this event.\n\n \n\nIf you are interested in making a gift of any size\, please click here: \n\nhttps://giving.uconn.edu/campaigns/74574/donations/new?designation=veteransoutreachattheschoolofbusinessebv&\n\n\n\nThe EBV community of donors is the reason the program has endured. \n\n\n\nThank you so much!
X-ALT-DESC;FMTTYPE=text/html:<span style="font-family:calibri light\,sans-serif"><span style="font-size:10.5pt">UConn Gives is a 36-hour campaign to rally support for initiatives that make a real impact&mdash\;including the Entrepreneurship Bootcamp for Veterans (EBV). Gifts can be made between 7:00 AM EST on April 21 and 7:00 PM EST on April 22. </span></span><br />\n&nbsp\;<br />\n<span style="font-family:calibri light\,sans-serif"><span style="font-size:10.5pt">In the fall of 2025\, we held our first ever alumni event and welcomed over 40 graduates to the Sheraton Hartford Hotel at Bradley Airport. Attendees were able to take advantage of follow-on business resources while fostering meaningful relationships across cohorts. Please learn more <a href="https://nam10.safelinks.protection.outlook.com/?url=https%3A%2F%2Ftoday.uconn.edu%2F2025%2F10%2Fretired-army-major-wins-ebv-alumni-event-pitch-competition%2F&amp\;data=05%7C02%7Cmehgan.williams%40uconn.edu%7Ceeb29251c48d4c57d8c508de9be81b3c%7C17f1a87e2a254eaab9df9d439034b080%7C0%7C0%7C639119618360874316%7CUnknown%7CTWFpbGZsb3d8eyJFbXB0eU1hcGkiOnRydWUsIlYiOiIwLjAuMDAwMCIsIlAiOiJXaW4zMiIsIkFOIjoiTWFpbCIsIldUIjoyfQ%3D%3D%7C0%7C%7C%7C&amp\;sdata=mmh%2BScsoKR%2Bp7ZHT5EzhN4JpeGPVT4yDljiFeZT%2FQv8%3D&amp\;reserved=0"><strong>here</strong></a>. </span></span><br />\n&nbsp\;<br />\n<span style="font-family:calibri light\,sans-serif"><span style="font-size:10.5pt">We are proud of the positive feedback we received: <em>&ldquo\;Attending the EBV alumni event was truly a great learning experience. It provided an invaluable opportunity to network\, reconnect with my classmates\, and meet inspiring alumni from other cohort years. Events like this are essential for our continued growth and success as veteran entrepreneurs. I was fortunate enough to win the pitch competition award. Our </em><a href="https://nam10.safelinks.protection.outlook.com/?url=https%3A%2F%2Fwww.hw3foundation.org%2F&amp\;data=05%7C02%7Cmehgan.williams%40uconn.edu%7Ceeb29251c48d4c57d8c508de9be81b3c%7C17f1a87e2a254eaab9df9d439034b080%7C0%7C0%7C639119618360898852%7CUnknown%7CTWFpbGZsb3d8eyJFbXB0eU1hcGkiOnRydWUsIlYiOiIwLjAuMDAwMCIsIlAiOiJXaW4zMiIsIkFOIjoiTWFpbCIsIldUIjoyfQ%3D%3D%7C0%7C%7C%7C&amp\;sdata=rB6SKWgDat9YeD675sfFeKEa8cucMVYUL9VSy0%2BlePs%3D&amp\;reserved=0"><em>Henry H. Washington 3 Foundation</em></a><em> utilized the grant to provide homeless veterans with food\, clothing and shelter and to fund the development of additional programs for our veterans and young adults.&rdquo\;</em></span></span><br />\n<strong><em><span style="font-family:calibri light\,sans-serif"><span style="font-size:10.5pt">&mdash\;Dr. Henry H. Washington III\, EBV &#39\;21</span></span></em></strong><br />\n&nbsp\;<br />\n<span style="font-family:calibri light\,sans-serif"><span style="font-size:10.5pt">Our goal in 2026 is to raise funding to support another alumni event and ensure this is an annual offering for our graduates. <strong>All donations raised during UConn Gives will directly sponsor this event.</strong></span></span><br />\n&nbsp\;<br />\n<span style="font-family:calibri light\,sans-serif"><span style="font-size:10.5pt">If you are interested in making a gift of any size\, please click here:&nbsp\;</span></span><br />\n<span style="color:black"><span style="font-family:calibri light\,sans-serif"><span style="font-size:10.5pt"><a href="https://giving.uconn.edu/campaigns/74574/donations/new?designation=veteransoutreachattheschoolofbusinessebv&amp\;">https://giving.uconn.edu/campaigns/74574/donations/new?designation=veteransoutreachattheschoolofbusinessebv&amp\;</a></span></span></span><br />\n<br />\n<span style="font-family:calibri light\,sans-serif"><span style="font-size:10.5pt">The EBV community of donors is the reason the program has endured.&nbsp\;<br />\n<br />\nThank you so much!</span></span>
LOCATION:Please email Mehgan Williams at mehgan.williams@uconn.edu for additional information.
UID:e.2240.18531
SEQUENCE:3
DTSTAMP:20260421T195540Z
URL:https://sparc.crvchamber.org/events/details/uconn-gives-2026-april-21-22-18531
END:VEVENT

END:VCALENDAR
